BEGIN:VCALENDAR
VERSION:2.0
PRODID:-//Městská knihovna Orlová - ECPv4.4.5//NONSGML v1.0//EN
CALSCALE:GREGORIAN
METHOD:PUBLISH
X-WR-CALNAME:Městská knihovna Orlová
X-ORIGINAL-URL:https://mko.knihovna-orlova.cz
X-WR-CALDESC:Events for Městská knihovna Orlová
BEGIN:VEVENT
DTSTART;TZID=UTC+1:20201104T080000
DTEND;TZID=UTC+1:20201104T120000
DTSTAMP:20260423T193211
CREATED:20200923T082952Z
LAST-MODIFIED:20201019T060327Z
UID:14855-1604476800-1604491200@mko.knihovna-orlova.cz
SUMMARY:Počítačové kurzy pro začátečníky
DESCRIPTION:ZRUŠENO AŽ DO ODVOLÁNÍ!
URL:https://mko.knihovna-orlova.cz/event/14855/
LOCATION:Masarykova 1324\, Orlová\, Moravskoslezský\, 73514\, Česká republika
END:VEVENT
END:VCALENDAR