BEGIN:VCALENDAR
VERSION:2.0
PRODID:-//Městská knihovna Orlová - ECPv4.4.5//NONSGML v1.0//EN
CALSCALE:GREGORIAN
METHOD:PUBLISH
X-WR-CALNAME:Městská knihovna Orlová
X-ORIGINAL-URL:https://mko.knihovna-orlova.cz
X-WR-CALDESC:Events for Městská knihovna Orlová
BEGIN:VEVENT
DTSTART;TZID=UTC+1:20220419T160000
DTEND;TZID=UTC+1:20220419T180000
DTSTAMP:20260421T075120
CREATED:20220103T101320Z
LAST-MODIFIED:20220103T101320Z
UID:16588-1650384000-1650391200@mko.knihovna-orlova.cz
SUMMARY:A3V
DESCRIPTION:Kolem světa
URL:https://mko.knihovna-orlova.cz/event/a3v-12/
END:VEVENT
END:VCALENDAR