BEGIN:VCALENDAR
VERSION:2.0
PRODID:-//Městská knihovna Orlová - ECPv4.4.5//NONSGML v1.0//EN
CALSCALE:GREGORIAN
METHOD:PUBLISH
X-WR-CALNAME:Městská knihovna Orlová
X-ORIGINAL-URL:https://mko.knihovna-orlova.cz
X-WR-CALDESC:Events for Městská knihovna Orlová
BEGIN:VEVENT
DTSTART;TZID=UTC+1:20250304T160000
DTEND;TZID=UTC+1:20250304T180000
DTSTAMP:20260421T161719
CREATED:20250120T133728Z
LAST-MODIFIED:20250224T074536Z
UID:20818-1741104000-1741111200@mko.knihovna-orlova.cz
SUMMARY:A3V
DESCRIPTION:\n\n\n\n\n\n\n\n\n\n\n\n\n\n\n\n\n\n\n18. 2. 2025 až 29. 4. 2025\n16:00 – 18:00 hodin\nAkademie třetího věku\nLetní semestr 2025\nOd pyramid k abstraktnímu umění\nPřednáší: Mgr. Dana Hrbáčová\n18. 02. 2025 – Umění starověkých kultur\n04. 03. 2025 – Středověké umění\n18. 03. 2025 – Kultura a umění renesance\n01. 04. 2025 – Barokní umění\n15. 04. 2025 – Klasicismus a umění 19. Století\n29. 04. 2025 – Umění 20. Století\nMěstská knihovna Orlová ve spolupráci se Senior Pointem\, pořádá letní semestr akademie třetího věku.\nStudium je určeno pro posluchače +55 let.\nPřihlášky k vyzvednutí v 1. patře v oddělení pro dospělé čtenáře. Kapacita omezena.\nCena kurzu: 300 Kč. Splatné na první přednášce.\nPřednáškový sál – Městská knihovna Orlová (2. patro).\nInformace: 596 522 449\, knihovna@knihovna-orlova.cz\n\nKapacita kurzu naplněna.\n\n\n\n\n\n\n\n\n\n\n\n\n\n\n\n\n\n\n
URL:https://mko.knihovna-orlova.cz/event/a3v-26/
LOCATION:Orlová
END:VEVENT
END:VCALENDAR