BEGIN:VCALENDAR
VERSION:2.0
PRODID:-//Městská knihovna Orlová - ECPv4.4.5//NONSGML v1.0//EN
CALSCALE:GREGORIAN
METHOD:PUBLISH
X-WR-CALNAME:Městská knihovna Orlová
X-ORIGINAL-URL:https://mko.knihovna-orlova.cz
X-WR-CALDESC:Events for Městská knihovna Orlová
BEGIN:VEVENT
DTSTART;TZID=UTC+1:20211109T160000
DTEND;TZID=UTC+1:20211109T190000
DTSTAMP:20260421T013951
CREATED:20210729T091008Z
LAST-MODIFIED:20210729T091008Z
UID:16150-1636473600-1636484400@mko.knihovna-orlova.cz
SUMMARY:A3V
DESCRIPTION:Akademie třetího věku\n4. přednáška zimního semestru – Jak architektura vypráví\nMěstská knihovna Orlová ve spolupráci se Senior pointem\, pořádá zimní semestr akademie třetího věku.\nCena za semestr: 300\,- Kč\, studium je určeno pro posluchače +55 let.\nPřihlášky jsou k dispozici ve studovně.\nInformace: Ing. Dáša Bulavová\, 596 522 449
URL:https://mko.knihovna-orlova.cz/event/a3v-4/
LOCATION:Orlová
END:VEVENT
END:VCALENDAR