BEGIN:VCALENDAR
VERSION:2.0
PRODID:-//Městská knihovna Orlová - ECPv4.4.5//NONSGML v1.0//EN
CALSCALE:GREGORIAN
METHOD:PUBLISH
X-WR-CALNAME:Městská knihovna Orlová
X-ORIGINAL-URL:https://mko.knihovna-orlova.cz
X-WR-CALDESC:Events for Městská knihovna Orlová
BEGIN:VEVENT
DTSTART;TZID=UTC+1:20211123T160000
DTEND;TZID=UTC+1:20211123T190000
DTSTAMP:20260421T001134
CREATED:20210729T091307Z
LAST-MODIFIED:20210729T091307Z
UID:16152-1637683200-1637694000@mko.knihovna-orlova.cz
SUMMARY:A3V
DESCRIPTION:Akademie třetího věku\n5. přednáška zimního semestru – Sorela - nejasná poselství\nMěstská knihovna Orlová ve spolupráci se Senior pointem\, pořádá zimní semestr akademie třetího věku.\nCena za semestr: 300\,- Kč\, studium je určeno pro posluchače +55 let.\nPřihlášky jsou k dispozici ve studovně.\nInformace: Ing. Dáša Bulavová\, 596 522 449
URL:https://mko.knihovna-orlova.cz/event/a3v-5/
END:VEVENT
END:VCALENDAR