BEGIN:VCALENDAR
VERSION:2.0
PRODID:-//Městská knihovna Orlová - ECPv4.4.5//NONSGML v1.0//EN
CALSCALE:GREGORIAN
METHOD:PUBLISH
X-WR-CALNAME:Městská knihovna Orlová
X-ORIGINAL-URL:https://mko.knihovna-orlova.cz
X-WR-CALDESC:Events for Městská knihovna Orlová
BEGIN:VEVENT
DTSTART;TZID=UTC+1:20220308T160000
DTEND;TZID=UTC+1:20220308T180000
DTSTAMP:20260421T105125
CREATED:20220103T101050Z
LAST-MODIFIED:20220103T101050Z
UID:16582-1646755200-1646762400@mko.knihovna-orlova.cz
SUMMARY:A3V
DESCRIPTION:Kolem světa
URL:https://mko.knihovna-orlova.cz/event/a3v-9/
END:VEVENT
END:VCALENDAR