BEGIN:VCALENDAR
VERSION:2.0
PRODID:-//Městská knihovna Orlová - ECPv4.4.5//NONSGML v1.0//EN
CALSCALE:GREGORIAN
METHOD:PUBLISH
X-WR-CALNAME:Městská knihovna Orlová
X-ORIGINAL-URL:https://mko.knihovna-orlova.cz
X-WR-CALDESC:Events for Městská knihovna Orlová
BEGIN:VEVENT
DTSTART;TZID=UTC+1:20250213T170000
DTEND;TZID=UTC+1:20250213T183000
DTSTAMP:20260421T132445
CREATED:20250102T122440Z
LAST-MODIFIED:20250102T122440Z
UID:20753-1739466000-1739471400@mko.knihovna-orlova.cz
SUMMARY:Afrika
DESCRIPTION:\n\n\n\n\n\n\n\n\n\n\n\n\n\n\n\n\n\n\n\n\n\n\n\n\n\n\n\n\n\n\n13. 2. 2025\n17:00 hodin\nAfrika pohádková a skutečná\nPřednáší Štěpán Janča – farář Českobratrské církve evangelické\nO cestě po Africe strávené na severu Ugandy v uprchlické osadě\, obývané jihosúdánskými uprchlíky. V malé vesničce Ayii v Jižním Súdánu\, kde jsme většinu času strávili ve škole a ve zdravotních střediscích\, sponzorovaných českými dárci.\nA safari v ugandském národním parku Kidepo Valley\, asi nejodlehlejšího ze súdánských národních parků. A v keňském Nairobi ve slumech.\nVstupné: 30 Kč\nMěstská knihovna Orlová\, přednáškový sál (2. patro).\nInformace: studovna@knihovna-orlova.cz\, 596 522 449 \n\n\n\n\n\n\n\n\n\n\n\n\n\n\n\n\n\n\n\n\n\n\n\n\n\n\n\n\n\n\n
URL:https://mko.knihovna-orlova.cz/event/afrika/
END:VEVENT
END:VCALENDAR