BEGIN:VCALENDAR
VERSION:2.0
PRODID:-//Městská knihovna Orlová - ECPv4.4.5//NONSGML v1.0//EN
CALSCALE:GREGORIAN
METHOD:PUBLISH
X-WR-CALNAME:Městská knihovna Orlová
X-ORIGINAL-URL:https://mko.knihovna-orlova.cz
X-WR-CALDESC:Events for Městská knihovna Orlová
BEGIN:VEVENT
DTSTART;TZID=UTC+1:20260521T170000
DTEND;TZID=UTC+1:20260521T190000
DTSTAMP:20260426T003941
CREATED:20260421T112439Z
LAST-MODIFIED:20260421T112439Z
UID:22507-1779382800-1779390000@mko.knihovna-orlova.cz
SUMMARY:Amazonie
DESCRIPTION:21. 5. 2026\n17:00 hodin\nAmazonie\nPřednáší Tomáš Kubeš\, fotograf\, novinář a cestovatel.\nMatka všech řek Amazonka a nejrozlehlejší deštný prales planety. Vypravíme se po jejím toku od Atlantského oceánu z města Macapá až do kaučukového Iquitos. Objevíme přístav Manaus. Zde nás čeká první kontakt s pralesem a původními obyvateli u Rio Negro. Řeka Yavari skrývá mnoho záhad a setkání s Matses – jaguářími ženami – odhalí jedinečnou kulturu těchto tajemných lidí. Čeká nás velkolepé putování Amazonií za poznáním současnosti i stop minulosti.\nVstupné: 100 Kč\nMěstská knihovna Orlová\, přednáškový sál (2. patro)\nInformace: 596 522 449\, knihovna@knihovna-orlova.cz
URL:https://mko.knihovna-orlova.cz/event/amazonie/
END:VEVENT
END:VCALENDAR