BEGIN:VCALENDAR
VERSION:2.0
PRODID:-//Městská knihovna Orlová - ECPv4.4.5//NONSGML v1.0//EN
CALSCALE:GREGORIAN
METHOD:PUBLISH
X-WR-CALNAME:Městská knihovna Orlová
X-ORIGINAL-URL:https://mko.knihovna-orlova.cz
X-WR-CALDESC:Events for Městská knihovna Orlová
BEGIN:VEVENT
DTSTART;TZID=UTC+1:20210323T170000
DTEND;TZID=UTC+1:20210323T180000
DTSTAMP:20260421T132714
CREATED:20210309T142330Z
LAST-MODIFIED:20210309T142825Z
UID:15370-1616518800-1616522400@mko.knihovna-orlova.cz
SUMMARY:Americkým západem
DESCRIPTION:23. 3. 2021 v 17:00 hodin\n\n\n\n\nSrdečně Vás zveme na on-line přednášku Gabriely Všolkové\, přednášet bude na téma Americkým západem.\n\nPřednáška je zdarma a můžete ji sledovat z pohodlí vašeho domova.\nInformace: 596 522 449\, hudebni@knihovna-orlova.cz\nPro sledování přednášky prosím využijte odkaz v den a čas konání.\nPři přednášce je nutné mít vypnutou kameru a mikrofon na svém pc.\n\nSchůzka v Microsoft Teams\nPřipojit se na počítači nebo přes mobilní aplikaci Click here to join the meeting\n\nPodrobný návod k připojení na online schůzku v MS Teams.\n\n\n
URL:https://mko.knihovna-orlova.cz/event/americkym-zapadem/
END:VEVENT
END:VCALENDAR