BEGIN:VCALENDAR
VERSION:2.0
PRODID:-//Městská knihovna Orlová - ECPv4.4.5//NONSGML v1.0//EN
CALSCALE:GREGORIAN
METHOD:PUBLISH
X-WR-CALNAME:Městská knihovna Orlová
X-ORIGINAL-URL:https://mko.knihovna-orlova.cz
X-WR-CALDESC:Events for Městská knihovna Orlová
BEGIN:VEVENT
DTSTART;TZID=UTC+1:20220317T170000
DTEND;TZID=UTC+1:20220317T190000
DTSTAMP:20260421T072614
CREATED:20220125T104754Z
LAST-MODIFIED:20220125T104754Z
UID:16721-1647536400-1647543600@mko.knihovna-orlova.cz
SUMMARY:Arnošt Vašíček
DESCRIPTION:17. 3. 2022 \n17:00 hodin\nArnošt Vašíček\nZáhady na dosah ruky\nBeseda se spisovatelem\nOd magických rituálů v temném pravěku po nejnovější důkazy o UFO\nDějiny jsou plné událostí\, které se navzdory vědeckému zkoumání doposud nepodařilo uspokojivě vysvětlit\, a které nás provokují svou tajemností. Záhadné archeologické nálezy\, podivné záznamy v kronikách a také tajuplné okamžiky v životě některých proslulých osobností naznačují\, že minulost je daleko vzrušivější\, než si vůbec dovedeme představit a vybízejí nás k novému pátrání.\nJeskyně tisíce záhad – Golem a jeho bratři – Ztracení v propasti času – Temný případ Mozart – Incký princ na Moravě –– Děsivé noční mory – Záhrobní historky – Poplach na obloze  – Svatyně bestií – Mimozemšťané z pouště…\nVstupné: zdarma\nInformace: Bc. Pavla Gavelčíková\, 596 522 449
URL:https://mko.knihovna-orlova.cz/event/arnost-vasicek-2/
END:VEVENT
END:VCALENDAR