BEGIN:VCALENDAR
VERSION:2.0
PRODID:-//Městská knihovna Orlová - ECPv4.4.5//NONSGML v1.0//EN
CALSCALE:GREGORIAN
METHOD:PUBLISH
X-WR-CALNAME:Městská knihovna Orlová
X-ORIGINAL-URL:https://mko.knihovna-orlova.cz
X-WR-CALDESC:Events for Městská knihovna Orlová
BEGIN:VEVENT
DTSTART;TZID=UTC+1:20250220T170000
DTEND;TZID=UTC+1:20250220T183000
DTSTAMP:20260421T161446
CREATED:20250131T094231Z
LAST-MODIFIED:20250131T094231Z
UID:20891-1740070800-1740076200@mko.knihovna-orlova.cz
SUMMARY:Autorské čtení – Romana Vaverková - přeloženo!
DESCRIPTION:\n\n\n\n\n\n\n\n\n\n\n\n\n\n\n\n\n\n\n\n\n\n\n\n\n\n\n\n\n\n\n\n\n\n\n\n\n\n\n\n20. 2. 2025\n17:00 hodin\nAutorské čtení – Romana Vaverková\nHořkosladká vůně vanilky\nHořkosladká vůně vanilky je historický román z Opavska\, který se odehrává na konci 19. století.\nJednou z hlavních postav je Marie Fiedorová\, živnostnice a matka třech synů\, která vybudovala moderní podnik na výrobu oplatek\, tedy předchůdce dnešní Opavie.\nRomán seznamuje čtenáře také s několika významnými osobnostmi Rakouského Slezska a nastoluje otázky\, které jsou aktuální dodnes – otázku osobní svobody\, vzájemného respektu či schopnosti po životních karambolech znovu povstat a najít nový cíl.\nPublikace je opatřena dobovými fotografiemi a poznámkami s historickými fakty.\nVstupné: 30 Kč\nPřednáškový sál – Městská knihovna Orlová (2. patro).\nInformace: 596 522 449\, knihovna@knihovna-orlova.cz\n\nPřeloženo z důvodu nemoci. Nový termín 13. 11. 2025.\n\n\n\n\n\n\n\n\n\n\n\n\n\n\n\n\n\n\n\n\n\n\n\n\n\n\n\n\n\n\n\n\n\n\n\n\n\n\n\n
URL:https://mko.knihovna-orlova.cz/event/autorske-cteni-romana-vaverkova-prelozeno/
END:VEVENT
END:VCALENDAR