BEGIN:VCALENDAR
VERSION:2.0
PRODID:-//Městská knihovna Orlová - ECPv4.4.5//NONSGML v1.0//EN
CALSCALE:GREGORIAN
METHOD:PUBLISH
X-WR-CALNAME:Městská knihovna Orlová
X-ORIGINAL-URL:https://mko.knihovna-orlova.cz
X-WR-CALDESC:Events for Městská knihovna Orlová
BEGIN:VEVENT
DTSTART;TZID=UTC+1:20250218T090000
DTEND;TZID=UTC+1:20250218T110000
DTSTAMP:20260421T150222
CREATED:20250107T143626Z
LAST-MODIFIED:20250107T143626Z
UID:20768-1739869200-1739876400@mko.knihovna-orlova.cz
SUMMARY:Bezplatná právní poradna
DESCRIPTION:\n\n\n\n\n\n\n\n\n\n\n\n\n\n\n\n\n\n\n\n\n\n\n\n\n\n\n\n\n\n\n\n\n\n\n\n\n18. 2. 2025\n9:00 – 11:00 hodin\nBezplatná právní poradna\nPro seniory v Senior Pointu\nPouze v určených termínech.\nPo předchozí rezervaci v Městském informačním centru v přízemí knihovny.\nPři rezervaci nutno uhradit vratnou zálohu 100 Kč.\n1 schůzka 30 minut.                                   \nVstupné: zdarma\nSenior point – Městská knihovna Orlová (2. patro).\nInformace: 596 511 306\, orlova@seniorpointy.cz\n\n\n\n\n\n\n\n\n\n\n\n\n\n\n\n\n\n\n\n\n\n\n\n\n\n\n\n\n\n\n\n\n\n\n\n\n
URL:https://mko.knihovna-orlova.cz/event/bezplatna-pravni-poradna-9/
LOCATION:Masarykova 1324\, Orlová\, Moravskoslezský\, 73514\, Česká republika
END:VEVENT
END:VCALENDAR