BEGIN:VCALENDAR
VERSION:2.0
PRODID:-//Městská knihovna Orlová - ECPv4.4.5//NONSGML v1.0//EN
CALSCALE:GREGORIAN
METHOD:PUBLISH
X-WR-CALNAME:Městská knihovna Orlová
X-ORIGINAL-URL:https://mko.knihovna-orlova.cz
X-WR-CALDESC:Events for Městská knihovna Orlová
BEGIN:VEVENT
DTSTART;TZID=UTC+1:20221212T080000
DTEND;TZID=UTC+1:20221212T120000
DTSTAMP:20260423T043017
CREATED:20221007T124945Z
LAST-MODIFIED:20221007T124945Z
UID:17842-1670832000-1670846400@mko.knihovna-orlova.cz
SUMMARY:Bezplatná právní poradna
DESCRIPTION:5. 9. 2022 až 12. 12. 2022\nBezplatná právní poradna\nPro seniory v Senior Pointu\nPouze v určených termínech.\nTermíny: 5.9.\, 19.9.\, 3.10\, 17.10\, 31.10\, 14.11\, 28.11\, 12.12. 2022.\nOtevírací doba Senior Pointu: Po a Pá: 8:00 – 12:00 hodin                                            \nVstupné: zdarma\nInformace: 773 743 025\, 596 511 306\, orlova@seniorpointy.cz
URL:https://mko.knihovna-orlova.cz/event/bezplatna-pravni-poradna/
END:VEVENT
END:VCALENDAR