BEGIN:VCALENDAR
VERSION:2.0
PRODID:-//Městská knihovna Orlová - ECPv4.4.5//NONSGML v1.0//EN
CALSCALE:GREGORIAN
METHOD:PUBLISH
X-WR-CALNAME:Městská knihovna Orlová
X-ORIGINAL-URL:https://mko.knihovna-orlova.cz
X-WR-CALDESC:Events for Městská knihovna Orlová
BEGIN:VEVENT
DTSTART;TZID=UTC+1:20210929T080000
DTEND;TZID=UTC+1:20211002T120000
DTSTAMP:20260421T105515
CREATED:20210923T151104Z
LAST-MODIFIED:20210923T151104Z
UID:16316-1632902400-1633176000@mko.knihovna-orlova.cz
SUMMARY:České dny proti rakovině
DESCRIPTION:\n\n\n\n\n\n\n29. 9. až 2. 10. 2021\nČeské dny proti rakovině\nLetos si můžete kytičku zakoupit také v Městském informačním centru a pomoct tak dobré věci s námi.\n\nKytičky pro rok 2021:\nBarva stužky: zelená\nMinimální prodejní cena (příspěvek za 1 kytičku): 20 Kč\nHlavní téma letošní sbírky:\nNádory ledvin\, močového měchýře a prostaty – možnosti prevence\n\nInformace: mic@knihovna-orlova.cz\, 596 511 306\n\n\n\n\n\n\n
URL:https://mko.knihovna-orlova.cz/event/ceske-dny-proti-rakovine/
END:VEVENT
END:VCALENDAR