BEGIN:VCALENDAR
VERSION:2.0
PRODID:-//Městská knihovna Orlová - ECPv4.4.5//NONSGML v1.0//EN
CALSCALE:GREGORIAN
METHOD:PUBLISH
X-WR-CALNAME:Městská knihovna Orlová
X-ORIGINAL-URL:https://mko.knihovna-orlova.cz
X-WR-CALDESC:Events for Městská knihovna Orlová
BEGIN:VEVENT
DTSTART;TZID=UTC+1:20221126T083000
DTEND;TZID=UTC+1:20221126T113000
DTSTAMP:20260423T041912
CREATED:20221017T132432Z
LAST-MODIFIED:20221017T132432Z
UID:17914-1669451400-1669462200@mko.knihovna-orlova.cz
SUMMARY:Den pro dětskou knihu
DESCRIPTION:\n\n\n\n\n\n\n26. 11. 2022        \nVánoční dílnička\nDen pro dětskou knihu\nSobota od 8:30 do 11:30 hodin.\nSrdečně zveme děti na společné vánoční tvoření v doprovodu příjemných vánočních tónů.\nMěstská knihovna Orlová oddělení pro děti a mládež.\nVstup: zdarma\nInformace: 596 522 449\, detska.knihovna@knihovna-orlova.cz\n\n\n\n\n\n\n
URL:https://mko.knihovna-orlova.cz/event/den-pro-detskou-knihu/
END:VEVENT
END:VCALENDAR