BEGIN:VCALENDAR
VERSION:2.0
PRODID:-//Městská knihovna Orlová - ECPv4.4.5//NONSGML v1.0//EN
CALSCALE:GREGORIAN
METHOD:PUBLISH
X-WR-CALNAME:Městská knihovna Orlová
X-ORIGINAL-URL:https://mko.knihovna-orlova.cz
X-WR-CALDESC:Events for Městská knihovna Orlová
BEGIN:VEVENT
DTSTART;TZID=UTC+1:20250314T140000
DTEND;TZID=UTC+1:20250314T170000
DTSTAMP:20260421T203115
CREATED:20250212T154234Z
LAST-MODIFIED:20250313T092856Z
UID:20945-1741960800-1741971600@mko.knihovna-orlova.cz
SUMMARY:Deskohraní - ZRUŠENO
DESCRIPTION:14. 3. 2025 - PRO NEMOC ZRUŠENO\n14:00 – 17:00 hodin\nDeskohraní\n\n\nKaždé odpoledne páteční\ndeskohraní se uskuteční.\nVšechny rádi uvidíme\,\nvěrné hráče odměníme.\nDěti\, rodiče\, prarodiče\, kamarádi\,\nvšichni jsou k nám srdečně zváni.\n\nPravidelně každý pátek.\nČím více hraješ\, tím větší šanci máš vyhrát a dostat odměnu.\nVhodné od: 6 – 99 let\nMěstská knihovna Orlová\, oddělení pro děti a mládež (přízemí)\nInformace: detska.knihovna@knihovna-orlova.cz\, 596 522 449 
URL:https://mko.knihovna-orlova.cz/event/deskohrani-3/
END:VEVENT
END:VCALENDAR