BEGIN:VCALENDAR
VERSION:2.0
PRODID:-//Městská knihovna Orlová - ECPv4.4.5//NONSGML v1.0//EN
CALSCALE:GREGORIAN
METHOD:PUBLISH
X-WR-CALNAME:Městská knihovna Orlová
X-ORIGINAL-URL:https://mko.knihovna-orlova.cz
X-WR-CALDESC:Events for Městská knihovna Orlová
BEGIN:VEVENT
DTSTART;TZID=UTC+1:20211104T140000
DTEND;TZID=UTC+1:20211104T160000
DTSTAMP:20260421T032147
CREATED:20210923T143414Z
LAST-MODIFIED:20210923T143414Z
UID:16295-1636034400-1636041600@mko.knihovna-orlova.cz
SUMMARY:Deskohraní v knihovně
DESCRIPTION:Oddělení pro děti a mládež pořádá pro děti pravidelné deskohraní.\nHrát budeme každý první čtvrtek v měsíci (další termín 2. 12.). Deskohraní se koná vždy od 14:00 do 16:00 hodin.\nInformace: Ivana Vicherková\, Radka Krakowczyková\, 596 522 449\, detska.knihovna@kniohnva-orlova.cz
URL:https://mko.knihovna-orlova.cz/event/deskohrani-v-knihovne-10/
END:VEVENT
END:VCALENDAR