BEGIN:VCALENDAR
VERSION:2.0
PRODID:-//Městská knihovna Orlová - ECPv4.4.5//NONSGML v1.0//EN
CALSCALE:GREGORIAN
METHOD:PUBLISH
X-WR-CALNAME:Městská knihovna Orlová
X-ORIGINAL-URL:https://mko.knihovna-orlova.cz
X-WR-CALDESC:Events for Městská knihovna Orlová
BEGIN:VEVENT
DTSTART;TZID=UTC+1:20221003T090000
DTEND;TZID=UTC+1:20221003T110000
DTSTAMP:20260423T073457
CREATED:20220809T102009Z
LAST-MODIFIED:20220809T102009Z
UID:17683-1664787600-1664794800@mko.knihovna-orlova.cz
SUMMARY:Drátování
DESCRIPTION:\n\n\n\n\n\n\n3. 10. 2022 9:00 hodin\nDrátování\nBonsaj na kameni\nTradiční drátenickou technikou si vyrobíme bonsaj na kameni s minerály ve větvích z černého drátu. Zúčastnit se mohou osoby nad 55 let. Zajištěn veškerý materiál vč. nářadí. Délka cca 2 hodiny. Max 20 osob. Nutná rezervace místa v Městském informačním centru nebo na prodejna@knihovna-orlova.cz a na tel. čísle 596 511 306.\nVstupné: zdarma\nInformace: 596 511 306\, prodejna@knihovna-orlova.cz\n\n\n\n\n\n\n
URL:https://mko.knihovna-orlova.cz/event/dratovani-2/
LOCATION:Orlová
END:VEVENT
END:VCALENDAR