BEGIN:VCALENDAR
VERSION:2.0
PRODID:-//Městská knihovna Orlová - ECPv4.4.5//NONSGML v1.0//EN
CALSCALE:GREGORIAN
METHOD:PUBLISH
X-WR-CALNAME:Městská knihovna Orlová
X-ORIGINAL-URL:https://mko.knihovna-orlova.cz
X-WR-CALDESC:Events for Městská knihovna Orlová
BEGIN:VEVENT
DTSTART;TZID=UTC+1:20241107T170000
DTEND;TZID=UTC+1:20241107T183000
DTSTAMP:20260423T233105
CREATED:20241017T105105Z
LAST-MODIFIED:20241017T105105Z
UID:20423-1730998800-1731004200@mko.knihovna-orlova.cz
SUMMARY:Eva Tvrdá
DESCRIPTION:\n\n\n\n\n\n\n7. 11. 2024\n17:00 hodin\nEva Tvrdá\nBeseda s autorkou nového románu – Na odvrácené straně\nSlezsko\, moderní dějiny\, osudy žen. Eva Tvrdá předkládá svá tradiční témata v novém\, originálním románu. Spolu s mladičkou Veronikou putujeme dvacátým stoletím a prožíváme osudy žen ze slezskomoravské oblasti.\nBez nutnosti rezervace.\nVstupné: 30 Kč\nMěstská knihovna Orlová – přednáškový sál (2. patro).\nInformace: 596 511 306\, studovna@knihovna-orlova.cz\n\n\n\n\n\n\n
URL:https://mko.knihovna-orlova.cz/event/eva-tvrda/
END:VEVENT
END:VCALENDAR