BEGIN:VCALENDAR
VERSION:2.0
PRODID:-//Městská knihovna Orlová - ECPv4.4.5//NONSGML v1.0//EN
CALSCALE:GREGORIAN
METHOD:PUBLISH
X-WR-CALNAME:Městská knihovna Orlová
X-ORIGINAL-URL:https://mko.knihovna-orlova.cz
X-WR-CALDESC:Events for Městská knihovna Orlová
BEGIN:VEVENT
DTSTART;TZID=UTC+1:20200924T170000
DTEND;TZID=UTC+1:20200924T190000
DTSTAMP:20260423T093746
CREATED:20200817T113210Z
LAST-MODIFIED:20200902T092327Z
UID:14637-1600966800-1600974000@mko.knihovna-orlova.cz
SUMMARY:Harasimová: Uteč své depresi
DESCRIPTION:Jak porazit duševní nemoc? Jde to!\nSrdečně Vás zveme na besedu s autorkou Markétou Harasimovou\, která má k dnešku na kontě dvanáct titulů ze současnosti (romány především pro dívky a ženy)\, připravuje scénář podle vlastního námětu a také knihu pro děti.\nVstupné: zdarma\nInformace: 596 522 449\n\n \n\n 
URL:https://mko.knihovna-orlova.cz/event/harasimova-utec-sve-depresi/
END:VEVENT
END:VCALENDAR