BEGIN:VCALENDAR
VERSION:2.0
PRODID:-//Městská knihovna Orlová - ECPv4.4.5//NONSGML v1.0//EN
CALSCALE:GREGORIAN
METHOD:PUBLISH
X-WR-CALNAME:Městská knihovna Orlová
X-ORIGINAL-URL:https://mko.knihovna-orlova.cz
X-WR-CALDESC:Events for Městská knihovna Orlová
BEGIN:VEVENT
DTSTART;TZID=UTC+1:20260217T090000
DTEND;TZID=UTC+1:20260217T120000
DTSTAMP:20260426T010029
CREATED:20260119T101504Z
LAST-MODIFIED:20260211T071319Z
UID:22092-1771318800-1771329600@mko.knihovna-orlova.cz
SUMMARY:Hravá oslava v knihovně
DESCRIPTION:\n\n\n\n\n\n\n\n\n\n\n\n\nPřesunuto na sobotu 10. 10. 2026!\n\n17. 2. 2026\n9:00 až 12:00 hodin\nHravá oslava v knihovně\nKnihovna slaví 105 let\nZveme všechny děti bez omezení věku na hravou oslavu výročí naší knihovny. Čeká vás dopoledne plné her\, zábavných aktivit a tvoření\, při kterých zapojíme fantazii i šikovné ruce.\nPřijďte si s námi užít narozeniny knihovny\, pobavit se\, něco si vyrobit a oslavit místo\, kde příběhy žijí už 105 let. \nVhodné pro všechny věkové kategorie.\nVstupné: 50 Kč\nNutná rezervace místa.\nMěstská knihovna Orlová\, oddělení pro děti a mládež (přízemí)\nInformace: detska.knihovna@knihovna-orlova.cz\, 596 522 449 \n\n\n\n\n\n\n\n\n\n\n\n\n
URL:https://mko.knihovna-orlova.cz/event/hrava-oslava-v-knihovne/
END:VEVENT
END:VCALENDAR