BEGIN:VCALENDAR
VERSION:2.0
PRODID:-//Městská knihovna Orlová - ECPv4.4.5//NONSGML v1.0//EN
CALSCALE:GREGORIAN
METHOD:PUBLISH
X-WR-CALNAME:Městská knihovna Orlová
X-ORIGINAL-URL:https://mko.knihovna-orlova.cz
X-WR-CALDESC:Events for Městská knihovna Orlová
BEGIN:VEVENT
DTSTART;TZID=UTC+1:20260305T170000
DTEND;TZID=UTC+1:20260305T190000
DTSTAMP:20260425T233925
CREATED:20260219T103113Z
LAST-MODIFIED:20260219T103113Z
UID:22260-1772730000-1772737200@mko.knihovna-orlova.cz
SUMMARY:Indie
DESCRIPTION:5. 3. 2026\n17:00 hodin\nIndie – země protikladů\nPřednáší: Jana & Vladimír Poulíkovi\nŘíká se\, že když do Indie zavítáte poprvé a na vlastní pěst\, budete ji buď milovat nebo nenávidět. Jsou to však příliš vzdálené protiklady a naše pocity a dojmy jsou rozhodně někde uprostřed. Na kolena nás dostaly památky tak dokonalé a krásné\, že jsme si je ani ve snu nedokázali představit. Protikladem k té vší kráse bylo neskutečné množství lidí\, všudypřítomný hluk v ulicích a také špína a odpadky. To vše prosyceno spiritualitou\, barevností\, pachy\, vůněmi i chutěmi. Protikladem je i sever a jih země a právě na sever Indie se tentokrát společně vydáme.\nVstupné: 50 Kč\nMěstská knihovna Orlová\, přednáškový sál (2. patro).\nInformace: studovna@knihovna-orlova.cz\, 596 522 449 
URL:https://mko.knihovna-orlova.cz/event/indie/
END:VEVENT
END:VCALENDAR