BEGIN:VCALENDAR
VERSION:2.0
PRODID:-//Městská knihovna Orlová - ECPv4.4.5//NONSGML v1.0//EN
CALSCALE:GREGORIAN
METHOD:PUBLISH
X-WR-CALNAME:Městská knihovna Orlová
X-ORIGINAL-URL:https://mko.knihovna-orlova.cz
X-WR-CALDESC:Events for Městská knihovna Orlová
BEGIN:VEVENT
DTSTART;TZID=UTC+1:20241101T090000
DTEND;TZID=UTC+1:20241101T110000
DTSTAMP:20260424T025545
CREATED:20241003T081606Z
LAST-MODIFIED:20241003T081606Z
UID:20313-1730451600-1730458800@mko.knihovna-orlova.cz
SUMMARY:Internet a online platformy
DESCRIPTION:\n\n\n\n\n\n\n\n\n\n\n\n\n\n\n\n\n\n\n4. 10. 2024 – zrušeno pro nemoc (nový termín 1. 11. 2024)\n9:00 hodin\nVzdělávací besedy pro seniory\nInternet a online platformy.\nPořádá: Český telekomunikační úřad\nBez nutnosti rezervace.\nVstupné: zdarma\nSenior point – Městská knihovna Orlová (2. patro).\nInformace: 596 522 449\, studovna@knihovna-orlova.cz\n\n\n\n\n\n\n\n\n\n\n\n\n\n\n\n\n\n\n
URL:https://mko.knihovna-orlova.cz/event/internet-a-online-platformy/
END:VEVENT
END:VCALENDAR