BEGIN:VCALENDAR
VERSION:2.0
PRODID:-//Městská knihovna Orlová - ECPv4.4.5//NONSGML v1.0//EN
CALSCALE:GREGORIAN
METHOD:PUBLISH
X-WR-CALNAME:Městská knihovna Orlová
X-ORIGINAL-URL:https://mko.knihovna-orlova.cz
X-WR-CALDESC:Events for Městská knihovna Orlová
BEGIN:VEVENT
DTSTART;TZID=UTC+1:20221013T170000
DTEND;TZID=UTC+1:20221013T190000
DTSTAMP:20260423T061055
CREATED:20221007T124026Z
LAST-MODIFIED:20221007T124026Z
UID:17836-1665680400-1665687600@mko.knihovna-orlova.cz
SUMMARY:Jídlo jako lék\, jídlo jako jed
DESCRIPTION:\n\n\n\n\n\n\n\n\n\n\n\n\n\n\n\n\n\n\n13. 10. 2022\n17:00 hodin\nJídlo jako lék\, jídlo jako jed\nPřednáška se spisovatelkou.\nNa přednášce bude možnost zakoupit si knihu.\nPřednáší: Ing. Jarmila Mandžuková\nVstupné: zdarma\nBez nutnosti rezervace.\nInformace: knihovna@knihovna-orlova.cz\, 596 522 449\n\n\n\n\n\n\n\n\n\n\n\n\n\n\n\n\n\n\n
URL:https://mko.knihovna-orlova.cz/event/jidlo-jako-lek-jidlo-jako-jed/
END:VEVENT
END:VCALENDAR