BEGIN:VCALENDAR
VERSION:2.0
PRODID:-//Městská knihovna Orlová - ECPv4.4.5//NONSGML v1.0//EN
CALSCALE:GREGORIAN
METHOD:PUBLISH
X-WR-CALNAME:Městská knihovna Orlová
X-ORIGINAL-URL:https://mko.knihovna-orlova.cz
X-WR-CALDESC:Events for Městská knihovna Orlová
BEGIN:VEVENT
DTSTART;TZID=UTC+1:20241111T090000
DTEND;TZID=UTC+1:20241111T100000
DTSTAMP:20260424T014602
CREATED:20241009T130308Z
LAST-MODIFIED:20241009T130308Z
UID:20353-1731315600-1731319200@mko.knihovna-orlova.cz
SUMMARY:Jóga na židlích
DESCRIPTION:\n\n\n\n\n\n\n\n\n\n\n\n\n\n\n\n\n\n\n\n\n\n\n\n\n\n\n\n\n11. 11. 2024\n9:00 hodin\nJóga na židlích\nLekce jógy na židlích pod vedením zkušené lektorky Mgr. Daniely Pilařové.\nCena lekce je 150 Kč. Maximální kapacita sálu 20 osob.\nMinimum pro konání kurzu 5 osob.\nJiž v předprodeji v Městském informačním centru.\nMěstská knihovna Orlová – přednáškový sál (2. patro).\nInformace: prodejna@knihovna-orlova.cz\, 596 511 306\n\n\n\n\n\n\n\n\n\n\n\n\n\n\n\n\n\n\n\n\n\n\n\n\n\n\n\n\n
URL:https://mko.knihovna-orlova.cz/event/joga-na-zidlich-10/
END:VEVENT
END:VCALENDAR