BEGIN:VCALENDAR
VERSION:2.0
PRODID:-//Městská knihovna Orlová - ECPv4.4.5//NONSGML v1.0//EN
CALSCALE:GREGORIAN
METHOD:PUBLISH
X-WR-CALNAME:Městská knihovna Orlová
X-ORIGINAL-URL:https://mko.knihovna-orlova.cz
X-WR-CALDESC:Events for Městská knihovna Orlová
BEGIN:VEVENT
DTSTART;TZID=UTC+1:20221024T150000
DTEND;TZID=UTC+1:20221024T170000
DTSTAMP:20260423T060928
CREATED:20220714T131153Z
LAST-MODIFIED:20220714T131153Z
UID:17603-1666623600-1666630800@mko.knihovna-orlova.cz
SUMMARY:Jóga na židlích
DESCRIPTION:\n\n\n\n\n\n\n24. 10. 2022 15:00 hodin\nJóga na židlích\nHrudník\n Lekce jógy na židlích pod vedením zkušené lektorky Mgr. Daniely Pilařové. První lekce je zaměřena na bedra. Další lekce: 24. 10. (hrudník) a 28. 11. (kyčle). Cena jedné lekce je 150 Kč. Maximální kapacita sálu 15 osob. Minimum pro konání kurzu 5 osob. Již v předprodeji v Městském informačním centru.\nUrčeno pro všechny věkové kategorie.\nVstupné: 150 Kč / lekce\nInformace: 596 511 306\, mic@knihovna-orlova.cz\n\n\n\n\n\n\n
URL:https://mko.knihovna-orlova.cz/event/joga-na-zidlich-3/
END:VEVENT
END:VCALENDAR