BEGIN:VCALENDAR
VERSION:2.0
PRODID:-//Městská knihovna Orlová - ECPv4.4.5//NONSGML v1.0//EN
CALSCALE:GREGORIAN
METHOD:PUBLISH
X-WR-CALNAME:Městská knihovna Orlová
X-ORIGINAL-URL:https://mko.knihovna-orlova.cz
X-WR-CALDESC:Events for Městská knihovna Orlová
BEGIN:VEVENT
DTSTART;TZID=UTC+1:20250320T163000
DTEND;TZID=UTC+1:20250320T180000
DTSTAMP:20260421T202849
CREATED:20250130T132838Z
LAST-MODIFIED:20250130T132838Z
UID:20883-1742488200-1742493600@mko.knihovna-orlova.cz
SUMMARY:Jordánsko
DESCRIPTION:\n\n\n\n\n\n\n20. 3. 2025\n16:30 hodin\nJordánsko\nCestovatelská přednáška\nPřednáší: Jakub Wágner\nPřipravila PS pro rozvoj čtenářské gramotnosti.\nUrčeno žákům ZŠ a veřejnosti.\nBez nutnosti rezervace.\nMěstská knihovna Orlová\, přednáškový sál (2. patro).\nInformace: studovna@knihovna-orlova.cz\, 596 522 449 \n\n\n\n\n\n\n
URL:https://mko.knihovna-orlova.cz/event/jordansko-2/
END:VEVENT
END:VCALENDAR