BEGIN:VCALENDAR
VERSION:2.0
PRODID:-//Městská knihovna Orlová - ECPv4.4.5//NONSGML v1.0//EN
CALSCALE:GREGORIAN
METHOD:PUBLISH
X-WR-CALNAME:Městská knihovna Orlová
X-ORIGINAL-URL:https://mko.knihovna-orlova.cz
X-WR-CALDESC:Events for Městská knihovna Orlová
BEGIN:VEVENT
DTSTART;TZID=UTC+1:20241204T163000
DTEND;TZID=UTC+1:20241204T180000
DTSTAMP:20260423T204307
CREATED:20241108T115847Z
LAST-MODIFIED:20241119T122413Z
UID:20527-1733329800-1733335200@mko.knihovna-orlova.cz
SUMMARY:Kanada
DESCRIPTION:\n\n\n\n\n\n\n\n\n\n\n\n\n\n\n\n\n\n\n\n\n\n\n\n\n\n\n\n\n\n\n\n\n\n\n\n4. 12. 2024\n16:30 hodin\nKanada\nCestovatelská přednáška\nPetr Kahánek\nPřipravila PS pro rozvoj čtenářské gramotnosti.\nUrčeno žákům ZŠ a veřejnosti.\nBez nutnosti rezervace.\nPřednáškový sál Městské knihovny Orlová (2. patro).\nInformace: 596 522 449\, knihovna@knihovna-orlova.cz\n\n\n\n\n\n\n\n\n\n\n\n\n\n\n\n\n\n\n\n\n\n\n\n\n\n\n\n\n\n\n\n\n\n\n\n
URL:https://mko.knihovna-orlova.cz/event/kanada/
END:VEVENT
END:VCALENDAR