BEGIN:VCALENDAR
VERSION:2.0
PRODID:-//Městská knihovna Orlová - ECPv4.4.5//NONSGML v1.0//EN
CALSCALE:GREGORIAN
METHOD:PUBLISH
X-WR-CALNAME:Městská knihovna Orlová
X-ORIGINAL-URL:https://mko.knihovna-orlova.cz
X-WR-CALDESC:Events for Městská knihovna Orlová
BEGIN:VEVENT
DTSTART;TZID=UTC+1:20220428T170000
DTEND;TZID=UTC+1:20220428T190000
DTSTAMP:20260421T085653
CREATED:20220126T110331Z
LAST-MODIFIED:20220412T073924Z
UID:16729-1651165200-1651172400@mko.knihovna-orlova.cz
SUMMARY:Karin Lednická
DESCRIPTION:28. 4. 2022\n17:00 hodin\nŠikmý kostel\nZveme Vás na moderovanou besedu s překladatelkou\, nakladatelkou a spisovatelkou Karin Lednickou. Autorkou trilogie Šikmý kostel.\nV knihovně najdete dva knižní díly\, třetí díl je na cestě\, dále elektronickou i mluvenou verzi knih.\nRománová kronika ztraceného města\, léta 1894–⁠1921. Vypráví o událostech a osudech lidí\, kteří žili v dnes již zaniklém městě.\nVstupné: zdarma\nBez nutnosti rezervace.\nAKCE PRO VELKÝ ZÁJEM PŘESUNUTA DO DOMU KULTURY\nZAČÁTEK: 28. 4. 2022 V 17:15 HODIN V DIVADELNÍM SÁLE\nInformace: Bc. Pavla Gavelčíková\, 596 522 449
URL:https://mko.knihovna-orlova.cz/event/karin-lednicka/
END:VEVENT
END:VCALENDAR