BEGIN:VCALENDAR
VERSION:2.0
PRODID:-//Městská knihovna Orlová - ECPv4.4.5//NONSGML v1.0//EN
CALSCALE:GREGORIAN
METHOD:PUBLISH
X-WR-CALNAME:Městská knihovna Orlová
X-ORIGINAL-URL:https://mko.knihovna-orlova.cz
X-WR-CALDESC:Events for Městská knihovna Orlová
BEGIN:VEVENT
DTSTART;TZID=UTC+1:20211004T160000
DTEND;TZID=UTC+1:20211004T180000
DTSTAMP:20260421T061854
CREATED:20210923T141620Z
LAST-MODIFIED:20210930T064119Z
UID:16289-1633363200-1633370400@mko.knihovna-orlova.cz
SUMMARY:Křest knih - Hany Kavalové
DESCRIPTION:4. 10. 2021 od 16:00 hodin\nPrvotina básniček „Zavolej mi včera aneb 1. PADesát“ a humorné povídky\, které vymyslel sám život „Co v kartách nebylo“.\nDoprovodný program: obrazy a grafiky Pavla Opartyho\nVstupné: zdarma\nInformace: Bc. Pavla Gavelčíková\, knihovna@knihovna-orlova.cz\, 596 522 449
URL:https://mko.knihovna-orlova.cz/event/krest-knih/
END:VEVENT
END:VCALENDAR