BEGIN:VCALENDAR
VERSION:2.0
PRODID:-//Městská knihovna Orlová - ECPv4.4.5//NONSGML v1.0//EN
CALSCALE:GREGORIAN
METHOD:PUBLISH
X-WR-CALNAME:Městská knihovna Orlová
X-ORIGINAL-URL:https://mko.knihovna-orlova.cz
X-WR-CALDESC:Events for Městská knihovna Orlová
BEGIN:VEVENT
DTSTART;TZID=UTC+1:20201005T160000
DTEND;TZID=UTC+1:20201005T180000
DTSTAMP:20260423T064555
CREATED:20200914T124132Z
LAST-MODIFIED:20201002T093232Z
UID:14748-1601913600-1601920800@mko.knihovna-orlova.cz
SUMMARY:Křest knihy Hany Kavalové: Zavolej MI včera aneb 1. PADesát
DESCRIPTION:ZRUŠENO Z DŮVODU VYHLÁŠENÍ NOUZOVÉHO STAVU!\nZveme Vás na autorské čtení povídek a křest prvotiny básniček.\nMůžete se těšit na doprovodný program: ENAMI Nadi Kročkové – módní přehlídka autorských oděvů\, obrazů a grafik Pavla Opartyho.\nVstupné: zdarma\nInformace: 596 522 449\, www.enami.cz\, www.paveloparty.cz\n\n \n\n 
URL:https://mko.knihovna-orlova.cz/event/krest-knihy-hany-kavalove-zavolej-mi-vcera-aneb-1-padesat/
END:VEVENT
END:VCALENDAR