BEGIN:VCALENDAR
VERSION:2.0
PRODID:-//Městská knihovna Orlová - ECPv4.4.5//NONSGML v1.0//EN
CALSCALE:GREGORIAN
METHOD:PUBLISH
X-WR-CALNAME:Městská knihovna Orlová
X-ORIGINAL-URL:https://mko.knihovna-orlova.cz
X-WR-CALDESC:Events for Městská knihovna Orlová
BEGIN:VEVENT
DTSTART;TZID=UTC+1:20221208T160000
DTEND;TZID=UTC+1:20221208T180000
DTSTAMP:20260423T073559
CREATED:20221116T145116Z
LAST-MODIFIED:20221116T145116Z
UID:18016-1670515200-1670522400@mko.knihovna-orlova.cz
SUMMARY:Křest knihy
DESCRIPTION:\n\n\n\n\n\n\n8. 12. 2022 16:00 hodin\nKřest knihy\nLenka Pastorčáková\nSlavnostní křest románu Kandidát s autorským čtením a autogramiádou.\nKnihu pokřtí zpěváci Eliška Rusková a Mikuláš Hrbáček. Součástí besedy bude hudební vystoupení.\nNutná rezervace místa v Městském informačním centru nebo na prodejna@knihovna-orlova.cz a na tel. čísle 596 511 306.\nVstupné: zdarma\nInformace: 596 511 306\, prodejna@knihovna-orlova.cz\n\n\n\n\n\n\n
URL:https://mko.knihovna-orlova.cz/event/krest-knihy/
END:VEVENT
END:VCALENDAR