BEGIN:VCALENDAR
VERSION:2.0
PRODID:-//Městská knihovna Orlová - ECPv4.4.5//NONSGML v1.0//EN
CALSCALE:GREGORIAN
METHOD:PUBLISH
X-WR-CALNAME:Městská knihovna Orlová
X-ORIGINAL-URL:https://mko.knihovna-orlova.cz
X-WR-CALDESC:Events for Městská knihovna Orlová
BEGIN:VEVENT
DTSTART;TZID=UTC+1:20220422T160000
DTEND;TZID=UTC+1:20220422T170000
DTSTAMP:20260421T105711
CREATED:20220406T093858Z
LAST-MODIFIED:20220406T093858Z
UID:17141-1650643200-1650646800@mko.knihovna-orlova.cz
SUMMARY:Kurz českého jazyka
DESCRIPTION:8. 4. až 30. 4. 2022\nKurz českého jazyka pro ukrajinské rodiny\nКурс чеської мови для українських сімей\nV rámci současné situace\, kdy máme v Orlové ubytované ukrajinské rodiny\, zajistilo oddělení školství ve spolupráci se ZŠ Školní v Orlové zahájení kurzu určeného pro zájemce z řad ukrajinských občanů\, kteří se chtějí učit česky:\nMísto / МІСЦЕ:\nKNIHOVNA / БІБЛІОТЕКА ORLOVÁ\nV měsíci dubnu je naplánováno osm termínů setkání. V případě zájmu mohou být zajištěny navazující kurzy i v květnu.\nInformace: 777 182 747\, k.kempna@zsskolni.org
URL:https://mko.knihovna-orlova.cz/event/kurz-ceskeho-jazyka-3/
END:VEVENT
END:VCALENDAR