BEGIN:VCALENDAR
VERSION:2.0
PRODID:-//Městská knihovna Orlová - ECPv4.4.5//NONSGML v1.0//EN
CALSCALE:GREGORIAN
METHOD:PUBLISH
X-WR-CALNAME:Městská knihovna Orlová
X-ORIGINAL-URL:https://mko.knihovna-orlova.cz
X-WR-CALDESC:Events for Městská knihovna Orlová
BEGIN:VEVENT
DTSTART;TZID=UTC+1:20241121T170000
DTEND;TZID=UTC+1:20241121T183000
DTSTAMP:20260423T220444
CREATED:20241017T104441Z
LAST-MODIFIED:20241017T104441Z
UID:20421-1732208400-1732213800@mko.knihovna-orlova.cz
SUMMARY:Le Mans + Dakar
DESCRIPTION:\n\n\n\n\n\n\n\n\n\n\n\n\n\n\n\n\n\n\n\n\n\n\n\n\n\n\n\n\n21. 11. 2024\n17:00 hodin\nLe Mans + Dakar\nMartin Straka\nMartin Straka je fotoreportér\, televizní komentátor a novinář. Žije ve Vratimově u Ostravy. Automobilové závody komentuje v různých televizních stanicích od roku 2005 (24h Le Mans & WEC\, IndyCar\, Blancpain GT Series\, Int. GT Series…)\, jeho hlas zní Masarykovým okruhem v Brně a na Slovakiaringu od roku 2013. Jeho fotografie získaly různá ocenění. Vedle motorsportu je další jeho vášní umělecký svět. Se svým Železem&Sklem\, jak fotovýbavě říká\, se tak často a rád pohybuje v hudebním\, divadelním a filmovém prostředí. S oblibou říká\, že jeho ateliérem je Svět\, a že Světlo si vždycky najde.“ (zdroj životopisu: www.autokaleidoskop.cz)\nBez nutnosti rezervace.\nVstupné: 30 Kč\nPřednáškový sál – Městská knihovna Orlová (2. patro).\nInformace: studovna@knihovna-orlova.cz\, 596 522 449 \n\n\n\n\n\n\n\n\n\n\n\n\n\n\n\n\n\n\n\n\n\n\n\n\n\n\n\n\n
URL:https://mko.knihovna-orlova.cz/event/le-mans-dakar/
END:VEVENT
END:VCALENDAR