BEGIN:VCALENDAR
VERSION:2.0
PRODID:-//Městská knihovna Orlová - ECPv4.4.5//NONSGML v1.0//EN
CALSCALE:GREGORIAN
METHOD:PUBLISH
X-WR-CALNAME:Městská knihovna Orlová
X-ORIGINAL-URL:https://mko.knihovna-orlova.cz
X-WR-CALDESC:Events for Městská knihovna Orlová
BEGIN:VEVENT
DTSTART;TZID=UTC+1:20240516T170000
DTEND;TZID=UTC+1:20240516T183000
DTSTAMP:20260421T132228
CREATED:20240429T091829Z
LAST-MODIFIED:20240429T091829Z
UID:19874-1715878800-1715884200@mko.knihovna-orlova.cz
SUMMARY:Lovec záhad
DESCRIPTION:\n\n16. 5. 2024\n17:00 hodin\nLovec záhad\nBeseda a autogramiáda se spisovatelem Arnoštem Vašíčkem\nArnošt Vašíček představuje vzpomínkovou knížku Lovec záhad se spoustou tajemna\, ale také nejrůznějších vtipných i dramatických historek\, které se při honbě za záhadami udály\, ale do faktografických knížek se nedostaly.\nVstupné: 30 Kč\, bez nutnosti rezervace\nPřednáškový sál\, Městská knihovna Orlová (2. patro).\nInformace: 596 522 449\, studovna@knihovna-orlova.cz\n\n
URL:https://mko.knihovna-orlova.cz/event/lovec-zahad/
END:VEVENT
END:VCALENDAR