BEGIN:VCALENDAR
VERSION:2.0
PRODID:-//Městská knihovna Orlová - ECPv4.4.5//NONSGML v1.0//EN
CALSCALE:GREGORIAN
METHOD:PUBLISH
X-WR-CALNAME:Městská knihovna Orlová
X-ORIGINAL-URL:https://mko.knihovna-orlova.cz
X-WR-CALDESC:Events for Městská knihovna Orlová
BEGIN:VEVENT
DTSTART;TZID=UTC+1:20220224T150000
DTEND;TZID=UTC+1:20220224T180000
DTSTAMP:20260421T130703
CREATED:20220202T142814Z
LAST-MODIFIED:20220202T142814Z
UID:16769-1645714800-1645725600@mko.knihovna-orlova.cz
SUMMARY:Macrame – anděl
DESCRIPTION:\n\n\n\n\n\n\n24. 2. 2022\n15:00 – 18:00 hodin\nMacrame – anděl\nKurz povede lektorka Zofia Iwanuszková\nTato technika je velmi populární\, výroba anděla není náročná.\n Max 20 osob. Nutná rezervace na prodejna@knihovna-orlova.cz nebo na tel. čísle 596 511 306.\nZúčastnit se mohou osoby nad 55 let.\nVstupné: zdarma.\nVeškerý materiál zajištěn.\nInformace: 596 511 306\, prodejna@knihovna-orlova.cz\n\n\n\n\n\n\n
URL:https://mko.knihovna-orlova.cz/event/macrame-andel/
END:VEVENT
END:VCALENDAR