BEGIN:VCALENDAR
VERSION:2.0
PRODID:-//Městská knihovna Orlová - ECPv4.4.5//NONSGML v1.0//EN
CALSCALE:GREGORIAN
METHOD:PUBLISH
X-WR-CALNAME:Městská knihovna Orlová
X-ORIGINAL-URL:https://mko.knihovna-orlova.cz
X-WR-CALDESC:Events for Městská knihovna Orlová
BEGIN:VEVENT
DTSTART;TZID=UTC+1:20201022T150000
DTEND;TZID=UTC+1:20201022T180000
DTSTAMP:20260423T121617
CREATED:20200922T104328Z
LAST-MODIFIED:20201013T101513Z
UID:14835-1603378800-1603389600@mko.knihovna-orlova.cz
SUMMARY:Makovice z černého drátu
DESCRIPTION:ZRUŠENO!
URL:https://mko.knihovna-orlova.cz/event/makovice-z-cerneho-dratu/
END:VEVENT
END:VCALENDAR