BEGIN:VCALENDAR
VERSION:2.0
PRODID:-//Městská knihovna Orlová - ECPv4.4.5//NONSGML v1.0//EN
CALSCALE:GREGORIAN
METHOD:PUBLISH
X-WR-CALNAME:Městská knihovna Orlová
X-ORIGINAL-URL:https://mko.knihovna-orlova.cz
X-WR-CALDESC:Events for Městská knihovna Orlová
BEGIN:VEVENT
DTSTART;TZID=UTC+1:20211129T080000
DTEND;TZID=UTC+1:20211129T110000
DTSTAMP:20260421T072613
CREATED:20211027T144140Z
LAST-MODIFIED:20211027T144140Z
UID:16429-1638172800-1638183600@mko.knihovna-orlova.cz
SUMMARY:Malování tašek
DESCRIPTION:\n\n\n\n\n\n\nMalování tašek\n\n\nMěstská knihovna Orlová ve spolupráci se Senior Pointem\, pořádá malování tašek.\n\nAkce proběhne 29. 11. od 9:00 v přednáškovém sále knihovny. Kurz povede lektorka Zofia Iwanuszková\, která tvořivé kurzy vede více než 15 let. Zúčastnit se mohou osoby nad 55 let.\n\nKurz bude probíhat cca 3 hodiny. Vstupné je zdarma. Veškerý materiál\, včetně zapůjčení nářadí\, je zahrnut v ceně. K účasti na kurzu je nutná rezervace na e-mailu orlovaknih@knihovna-orlova.cz nebo na tel. č. 596 522 449. Počet účastníků kurzu je omezen na 15 osob.\n\n\n\n\n\n\n
URL:https://mko.knihovna-orlova.cz/event/malovani-tasek/
END:VEVENT
END:VCALENDAR