BEGIN:VCALENDAR
VERSION:2.0
PRODID:-//Městská knihovna Orlová - ECPv4.4.5//NONSGML v1.0//EN
CALSCALE:GREGORIAN
METHOD:PUBLISH
X-WR-CALNAME:Městská knihovna Orlová
X-ORIGINAL-URL:https://mko.knihovna-orlova.cz
X-WR-CALDESC:Events for Městská knihovna Orlová
BEGIN:VEVENT
DTSTART;TZID=UTC+1:20220414T170000
DTEND;TZID=UTC+1:20220414T190000
DTSTAMP:20260421T075434
CREATED:20220308T121938Z
LAST-MODIFIED:20220308T121938Z
UID:16920-1649955600-1649962800@mko.knihovna-orlova.cz
SUMMARY:Na Niké kolem světa
DESCRIPTION:\n\n\n\n\n\n\n 14. 4. 2022\n17:00 hodin\nNa Niké kolem světa\nBeseda s mořeplavcem Richardem Konkolskim.\nVstupné: zdarma\nBez nutnosti rezervace.\nInformace: knihovna@knihovna-orlova.cz\, 596 522 449\n\n\n\n\n\n\n
URL:https://mko.knihovna-orlova.cz/event/na-nike-kolem-sveta/
END:VEVENT
END:VCALENDAR