BEGIN:VCALENDAR
VERSION:2.0
PRODID:-//Městská knihovna Orlová - ECPv4.4.5//NONSGML v1.0//EN
CALSCALE:GREGORIAN
METHOD:PUBLISH
X-WR-CALNAME:Městská knihovna Orlová
X-ORIGINAL-URL:https://mko.knihovna-orlova.cz
X-WR-CALDESC:Events for Městská knihovna Orlová
BEGIN:VEVENT
DTSTART;TZID=UTC+1:20250306T170000
DTEND;TZID=UTC+1:20250306T183000
DTSTAMP:20260421T173852
CREATED:20250129T132829Z
LAST-MODIFIED:20250129T132932Z
UID:20878-1741280400-1741285800@mko.knihovna-orlova.cz
SUMMARY:Norsko
DESCRIPTION:\n\n\n\n\n\n\n6. 3. 2025\n17:00 hodin\nNorsko – cesta na sever\nPřednáší: Jana & Vladimír Poulíkovi\nSeverská země na Skandinávském poloostrově nepřestává cestovatele udivovat svými přírodními krásami. Její reliéf modelovaly ledovce a zatopením ledovcových údolí tak vznikly četné fjordy. Délka jejího pobřeží je 102.936 km a má neuvěřitelný počet ostrovů\, přes 239 tisíc! Protože cesta na sever je skutečně velmi dlouhá\, poznáme tentokrát Norsko v jeho jižní části. Začneme v Trondheimu a za úlovkem se vydáme do rybářské vesnice Veiholmen. Projedeme nejdelším silničním tunelem na světě\, rozvětvené fjordy přeplujeme pomocí trajektů a z mnoha vyhlídek budeme žasnout nad romantickými přírodními scenériemi.\nVstupné: 30 Kč\nMěstská knihovna Orlová\, přednáškový sál (2. patro).\nInformace: studovna@knihovna-orlova.cz\, 596 522 449 \n\n\n\n\n\n\n
URL:https://mko.knihovna-orlova.cz/event/norsko/
END:VEVENT
END:VCALENDAR