BEGIN:VCALENDAR
VERSION:2.0
PRODID:-//Městská knihovna Orlová - ECPv4.4.5//NONSGML v1.0//EN
CALSCALE:GREGORIAN
METHOD:PUBLISH
X-WR-CALNAME:Městská knihovna Orlová
X-ORIGINAL-URL:https://mko.knihovna-orlova.cz
X-WR-CALDESC:Events for Městská knihovna Orlová
BEGIN:VEVENT
DTSTART;TZID=UTC+1:20240527T090000
DTEND;TZID=UTC+1:20240527T103000
DTSTAMP:20260421T150253
CREATED:20240422T120837Z
LAST-MODIFIED:20240422T120837Z
UID:19839-1716800400-1716805800@mko.knihovna-orlova.cz
SUMMARY:Obrana proti nekalým praktikám
DESCRIPTION:\n\n\n\n\n\n\n27. 5. 2024\n9:00 hodin\nObrana proti nekalým praktikám a cílené manipulaci při uzavírání smluv\nPořádá: Sdružení obrany spotřebitelů Moravy a Slezska\, z. s.\nNa besedě si povíme\, jaké prodejní a manipulativní techniky prodejci používají\, aby nás přesvědčili ke koupi i toho\, co vůbec nepotřebujeme. Které praktiky jsou považovány za nekalé a tudíž zakázané\, a jak se jim bránit. Ochrana zákazníků ve specifických případech – rizika nákupů na internetu\, nevyžádané hovory a návštěvy u spotřebitele doma\, apod. Aktuálně nejčastější scénáře podvodů a jak se jim bránit. Na konci besedy bude prostor na diskusi.\nVstupné: zdarma\, bez nutnosti rezervace\nSenior point – Městská knihovna Orlová (2. patro).\nInformace: 596 522 449\, studovna@knihovna-orlova.cz\n\n\n\n\n\n\n
URL:https://mko.knihovna-orlova.cz/event/obrana-proti-nekalym-praktikam/
END:VEVENT
END:VCALENDAR