BEGIN:VCALENDAR
VERSION:2.0
PRODID:-//Městská knihovna Orlová - ECPv4.4.5//NONSGML v1.0//EN
CALSCALE:GREGORIAN
METHOD:PUBLISH
X-WR-CALNAME:Městská knihovna Orlová
X-ORIGINAL-URL:https://mko.knihovna-orlova.cz
X-WR-CALDESC:Events for Městská knihovna Orlová
BEGIN:VEVENT
DTSTART;TZID=UTC+1:20211023T080000
DTEND;TZID=UTC+1:20211023T110000
DTSTAMP:20260421T153029
CREATED:20210925T084732Z
LAST-MODIFIED:20210925T084732Z
UID:16333-1634976000-1634986800@mko.knihovna-orlova.cz
SUMMARY:Pletení košíků
DESCRIPTION:Městská knihovna Orlová pořádá Mezigenerační tvoření k udržení tradic za podpory Nadace OKD.\nAkce proběhne v sobotu 23. 10. 2021 od 8:00 hodin v přednáškovém sále Městské knihovny Orlová.\n\nVezměte své děti i své rodiče s sebou do knihovny a společně se naučíme plést košíky. Kurz povede lektorka Zofia Iwanuszková\, která tvořivé kurzy vede více než 15 let.\n\nKurz bude probíhat cca 3 hodiny. Vstupné je symbolické 30 Kč. Veškerý materiál\, včetně zapůjčení nářadí\, je zahrnut v ceně. K účasti na kurzu je nutná rezervace na e-mailu orlovaknih@knihovna-orlova.cz nebo na tel. č. 596 522 449. Počet účastníků kurzu je omezen na 15 osob.
URL:https://mko.knihovna-orlova.cz/event/pleteni-kosiku/
END:VEVENT
END:VCALENDAR