BEGIN:VCALENDAR
VERSION:2.0
PRODID:-//Městská knihovna Orlová - ECPv4.4.5//NONSGML v1.0//EN
CALSCALE:GREGORIAN
METHOD:PUBLISH
X-WR-CALNAME:Městská knihovna Orlová
X-ORIGINAL-URL:https://mko.knihovna-orlova.cz
X-WR-CALDESC:Events for Městská knihovna Orlová
BEGIN:VEVENT
DTSTART;TZID=UTC+1:20211103T160000
DTEND;TZID=UTC+1:20211103T180000
DTSTAMP:20260421T045118
CREATED:20210923T144452Z
LAST-MODIFIED:20210923T144452Z
UID:16305-1635955200-1635962400@mko.knihovna-orlova.cz
SUMMARY:Počítačové kurzy
DESCRIPTION:Kurz je pro úplné začátečníky. Pro 12 osob.\nTémata\n– Základy práce s počítačem I\n– Základy práce s počítačem II\n– Bezpečnost na počítači a jak na “Fake news”?\n– Digitální fotografie – focení\, úpravy\, ukládání\, sdílení\n– Počítačové hry – “odtabuizování”\, logické\, rozvojové hry\, motorika\, paměť\nTermíny: – 27. 10.\, 3. 11.\, 10.11.\, 24. 11.\, 1. 12.\, – přednáškový sál vždy ve středu od 16:00 do 18:00 hodin\nVstupné: zdarma – Nutná rezervace. – Přihlášky jsou k dispozici ve studovně.\nInformace: 596 522 449\, orlovaknih@knihovna-orlova.cz
URL:https://mko.knihovna-orlova.cz/event/pocitacove-kurzy-2/
END:VEVENT
END:VCALENDAR