BEGIN:VCALENDAR
VERSION:2.0
PRODID:-//Městská knihovna Orlová - ECPv4.4.5//NONSGML v1.0//EN
CALSCALE:GREGORIAN
METHOD:PUBLISH
X-WR-CALNAME:Městská knihovna Orlová
X-ORIGINAL-URL:https://mko.knihovna-orlova.cz
X-WR-CALDESC:Events for Městská knihovna Orlová
BEGIN:VEVENT
DTSTART;TZID=UTC+1:20220330T160000
DTEND;TZID=UTC+1:20220330T180000
DTSTAMP:20260421T121637
CREATED:20220215T092500Z
LAST-MODIFIED:20220215T092500Z
UID:16820-1648656000-1648663200@mko.knihovna-orlova.cz
SUMMARY:Počítačové kurzy
DESCRIPTION:\n\n\n\n\n\n\n30. 3. 2022 16:00 hodin\nPočítačové kurzy\nKurz je pro úplné začátečníky. Pro 8 osob.\nTémata\n– Základy práce s počítačem I\n– Základy práce s počítačem II\n– Základy práce s počítačem III\n– Bezpečnost na pc + tipy a triky\n– Digitální fotografie – fotíme mobilem\nTermíny: – 9. 3.\, 16. 3.\, 23.3.\, 30. 3.\, 6. 4.\, – přednáškový sál vždy ve středu od 16:00 do 18:00 hodin\nVstupné: zdarma – Nutná rezervace. – Přihlášky jsou k dispozici ve studovně.\nInformace: 596 511 306\, prodejna@knihovna-orlova.cz\n\n\n\n\n\n\n
URL:https://mko.knihovna-orlova.cz/event/pocitacove-kurzy-9/
LOCATION:Orlová
END:VEVENT
END:VCALENDAR