BEGIN:VCALENDAR
VERSION:2.0
PRODID:-//Městská knihovna Orlová - ECPv4.4.5//NONSGML v1.0//EN
CALSCALE:GREGORIAN
METHOD:PUBLISH
X-WR-CALNAME:Městská knihovna Orlová
X-ORIGINAL-URL:https://mko.knihovna-orlova.cz
X-WR-CALDESC:Events for Městská knihovna Orlová
BEGIN:VEVENT
DTSTART;TZID=UTC+1:20201202T080000
DTEND;TZID=UTC+1:20201202T120000
DTSTAMP:20260423T180019
CREATED:20200923T083651Z
LAST-MODIFIED:20201019T060307Z
UID:14869-1606896000-1606910400@mko.knihovna-orlova.cz
SUMMARY:Počítačové kurzy pro začátečníky
DESCRIPTION:ZRUŠENO AŽ DO ODVOLÁNÍ!
URL:https://mko.knihovna-orlova.cz/event/pocitacove-kurzy-pro-zacatecniky-5/
LOCATION:Masarykova 1324\, Orlová\, Moravskoslezský\, 73514\, Česká republika
END:VEVENT
END:VCALENDAR