BEGIN:VCALENDAR
VERSION:2.0
PRODID:-//Městská knihovna Orlová - ECPv4.4.5//NONSGML v1.0//EN
CALSCALE:GREGORIAN
METHOD:PUBLISH
X-WR-CALNAME:Městská knihovna Orlová
X-ORIGINAL-URL:https://mko.knihovna-orlova.cz
X-WR-CALDESC:Events for Městská knihovna Orlová
BEGIN:VEVENT
DTSTART;TZID=UTC+1:20210909T150000
DTEND;TZID=UTC+1:20210909T180000
DTSTAMP:20260421T062016
CREATED:20210819T135204Z
LAST-MODIFIED:20210819T135204Z
UID:16209-1631199600-1631210400@mko.knihovna-orlova.cz
SUMMARY:Postavičky z rouna
DESCRIPTION:9. 9. 2021 15:00 hodin\n\n\nMěstská knihovna Orlová pořádá Mezigenerační tvoření k udržení tradic za podpory Nadace OKD\nAkce proběhne v úterý 9. 9. 2021 od 15:00 v přednáškovém sále Městské knihovny v Orlové.\n\nVezměte své děti i své rodiče s sebou do knihovny a společně vytvoříme postavičky z rouna. Kurz povede lektorka Zofia Iwanuszková\, která tvořivé kurzy vede více než 15 let.\n\nKurz bude probíhat cca 3 hodiny. Vstupné je symbolické 30 Kč. Veškerý materiál\, včetně zapůjčení nářadí\, je zahrnut v ceně. K účasti na kurzu je nutná rezervace na e-mailu orlovaknih@knihovna-orlova.cz nebo na tel. č. 596 522 449. Počet účastníků kurzu je omezen na 20 osob.
URL:https://mko.knihovna-orlova.cz/event/postavicky-z-rouna/
END:VEVENT
END:VCALENDAR