BEGIN:VCALENDAR
VERSION:2.0
PRODID:-//Městská knihovna Orlová - ECPv4.4.5//NONSGML v1.0//EN
CALSCALE:GREGORIAN
METHOD:PUBLISH
X-WR-CALNAME:Městská knihovna Orlová
X-ORIGINAL-URL:https://mko.knihovna-orlova.cz
X-WR-CALDESC:Events for Městská knihovna Orlová
BEGIN:VEVENT
DTSTART;TZID=UTC+1:20221017T080000
DTEND;TZID=UTC+1:20221017T120000
DTSTAMP:20260423T044110
CREATED:20220919T140847Z
LAST-MODIFIED:20220919T140847Z
UID:17790-1665993600-1666008000@mko.knihovna-orlova.cz
SUMMARY:PRÁVNÍ PORADNA
DESCRIPTION:\n\n\n5. 9. 2022 až 12. 12. 2022\nBezplatná právní poradna\nPro seniory v Senior Pointu\nPouze v určených termínech.\nTermíny: 5.9.\, 19.9.\, 3.10\, 17.10\, 31.10\, 14.11\, 28.11\, 12.12. 2022.\nOtevírací doba Senior Pointu: Po a Pá: 8:00 – 12:00 hodin                                            \nVstupné: zdarma\nInformace: 773 743 025\, 596 511 306\, orlova@seniorpointy.cz\n\n\n
URL:https://mko.knihovna-orlova.cz/event/pravni-poradna-4/
END:VEVENT
END:VCALENDAR