BEGIN:VCALENDAR
VERSION:2.0
PRODID:-//Městská knihovna Orlová - ECPv4.4.5//NONSGML v1.0//EN
CALSCALE:GREGORIAN
METHOD:PUBLISH
X-WR-CALNAME:Městská knihovna Orlová
X-ORIGINAL-URL:https://mko.knihovna-orlova.cz
X-WR-CALDESC:Events for Městská knihovna Orlová
BEGIN:VEVENT
DTSTART;TZID=UTC+1:20210701T080000
DTEND;TZID=UTC+1:20210731T170000
DTSTAMP:20260421T045139
CREATED:20210729T083313Z
LAST-MODIFIED:20210729T083313Z
UID:16142-1625126400-1627750800@mko.knihovna-orlova.cz
SUMMARY:Prázdninové soutěžení
DESCRIPTION:1. 7. 2021  – 31. 7. 2021\nPrázdninové soutěžení\nPohádkový kvíz (pro děti 4-6 let)\nZašifrovaná zpráva (pro děti 7-10 let)\n\n\nSoutěžní listy si vyzvedněte v Městské knihovně Orlová\, oddělení pro děti a mládež a odevzdejte je nejpozději do konce příslušného měsíce. Slosování výherců proběhne 2. 8. 2021 a 2. 9. 2021 a ti budou kontaktováni.\nOrlová-Lutyně\, MěK\, oddělení pro děti a mládež\n596 522 449\, detskaknihovna@knihovna-orlova.cz\n\n
URL:https://mko.knihovna-orlova.cz/event/prazdninove-soutezeni/
END:VEVENT
END:VCALENDAR