BEGIN:VCALENDAR
VERSION:2.0
PRODID:-//Městská knihovna Orlová - ECPv4.4.5//NONSGML v1.0//EN
CALSCALE:GREGORIAN
METHOD:PUBLISH
X-WR-CALNAME:Městská knihovna Orlová
X-ORIGINAL-URL:https://mko.knihovna-orlova.cz
X-WR-CALDESC:Events for Městská knihovna Orlová
BEGIN:VEVENT
DTSTART;TZID=UTC+1:20220503T160000
DTEND;TZID=UTC+1:20220503T180000
DTSTAMP:20260421T121201
CREATED:20220422T133443Z
LAST-MODIFIED:20220422T133443Z
UID:17228-1651593600-1651600800@mko.knihovna-orlova.cz
SUMMARY:Přednáška
DESCRIPTION: \n\n\n\n\n\n\n\n 3. 5. 2022\n16:00 hodin\nPřednáška\nSpolečensko-enviromentální výzvy umělecké tvorby Františka Veselého\nVnímání genia loci (ducha krajiny) a kvality životního prostředí ve vědě a umění.\nPřednáší: Prof. PaedDr. Jaroslav Vencálek\, CSc.\n3. 5. až 31. 5. 2022\nVýstava\nOtevírací doba: Po\, Út\, Čt\, Pá: 8:00 – 18:00 hodin\n                             St: zavřeno\n                             So: 8:00 – 12:00 hodin\nVstupné: zdarma\nInformace: 596 511 306\, prodejna@knihovna-orlova.cz\n\n\n\n\n\n\n
URL:https://mko.knihovna-orlova.cz/event/prednaska/
END:VEVENT
END:VCALENDAR