BEGIN:VCALENDAR
VERSION:2.0
PRODID:-//Městská knihovna Orlová - ECPv4.4.5//NONSGML v1.0//EN
CALSCALE:GREGORIAN
METHOD:PUBLISH
X-WR-CALNAME:Městská knihovna Orlová
X-ORIGINAL-URL:https://mko.knihovna-orlova.cz
X-WR-CALDESC:Events for Městská knihovna Orlová
BEGIN:VEVENT
DTSTART;TZID=UTC+1:20220330T090000
DTEND;TZID=UTC+1:20220330T170000
DTSTAMP:20260421T101851
CREATED:20220131T115914Z
LAST-MODIFIED:20220131T115914Z
UID:16754-1648630800-1648659600@mko.knihovna-orlova.cz
SUMMARY:Prodej vyřazených knih\, časopisů a hudebních CD
DESCRIPTION:30. 3. 2022 9:00 – 17:00 hodin\nProdej vyřazených knih\, časopisů a hudebních CD\nAkce bude tradičně probíhat ve vestibulu knihovny.\nCeny budou začínat na symbolických 5 Kč. Pokud tedy sháníte nějaký starší titul do své domácí knihovničky nebo prostě jen chcete udělat malou radost sobě či někomu z Vašich blízkých\, neváhejte a přijďte se za námi podívat.\nInformace: knihovna@knihovna-orlova.cz\, 596 522 449
URL:https://mko.knihovna-orlova.cz/event/prodej-vyrazenych-knih-casopisu-a-hudebnich-cd-6/
END:VEVENT
END:VCALENDAR